BEGIN:VCALENDAR
VERSION:2.0
PRODID:-//Partipipal - ECPv6.11.2.1//NONSGML v1.0//EN
CALSCALE:GREGORIAN
METHOD:PUBLISH
X-ORIGINAL-URL:https://partipipal.ro
X-WR-CALDESC:Events for Partipipal
REFRESH-INTERVAL;VALUE=DURATION:PT1H
X-Robots-Tag:noindex
X-PUBLISHED-TTL:PT1H
BEGIN:VTIMEZONE
TZID:UTC
BEGIN:STANDARD
TZOFFSETFROM:+0000
TZOFFSETTO:+0000
TZNAME:UTC
DTSTART:20180101T000000
END:STANDARD
END:VTIMEZONE
BEGIN:VEVENT
DTSTART;TZID=UTC:20190204T190000
DTEND;TZID=UTC:20190204T210000
DTSTAMP:20260425T002436
CREATED:20190130T175522Z
LAST-MODIFIED:20190130T180101Z
UID:31925-1549306800-1549314000@partipipal.ro
SUMMARY:DESPRE TANDRETE de Matei Visniec\, la Teatrul Dramaturgilor Romani
DESCRIPTION:DESPRE TANDREȚE de Matei Visniec\, se joacă la Teatrul Dramaturgilor Romani. Vorbim cu delicatețe și umor despre cât de fragilă și complexă este legătura între ființele umane. \nDESPRE TANDREȚE – piesa nouă\, inedită până azi\, a lui Matei Vișniec\, se compune din elemente aparent autonome ale unui mozaic de dialoguri\, uneori tandre alteori tăioase. Un joc subtil al iluziilor ce întruchipează o „Horă a iubirilor” adusă la zi\, cufundată într-o lume alienată și totuși dispusă la umor. În piesa lui Matei Vișniec impresionează simplitatea acțiunii care se suprapune unei infinite complexități a psihologiei personajelor. În același chip\, structura aparent lineară a fiecărei secvențe ascunde o mare tensiune\, un potențial important pus în valoare de regie și jocul actorilor pentru a naște un spectacol memorabil în toate fațetele sale. \nDETALII\nLuni\, 04.02\, ora 19.00\nMarți\, 05.02\, ora 19.00\nTDR\, sala Ion Băieșu\n1h 30 (fără pauză) \nDISTRIBUȚIA\nȘerban Pavlu\nCatrinel Dumitrescu\nAda Galeș\nȘtefan Iancu\nSandra Ducuță \nText:\nMatei Vișniec \nRegia:\nFelix Alexa \nIlustrația muzicală:\nFelix Alexa \nScenografia:\nAndrada Chiriac \nVideo-design-ul:\nAuraleye \nLight-design-ul:\nFelix Alexa \nVersiunea scenică:\nFelix Alexa
URL:https://partipipal.ro/event/despre-tandrete-de-matei-visniec-la-teatrul-dramaturgilor-romani/
LOCATION:Teatrul Dramaturgilor Romani\, Calea Griviței nr. 64-66\, sector 1\, Bucuresti\, Romania
CATEGORIES:Parteneriate Media,Teatru
ATTACH;FMTTYPE=image/jpeg:https://partipipal.ro/wp-content/uploads/2019/01/Feat-Event-PPPL.-Despre-Tandrete.jpg
END:VEVENT
BEGIN:VEVENT
DTSTART;TZID=UTC:20190201T190000
DTEND;TZID=UTC:20190201T210000
DTSTAMP:20260425T002436
CREATED:20190130T174148Z
LAST-MODIFIED:20190130T174148Z
UID:31920-1549047600-1549054800@partipipal.ro
SUMMARY:Hai la teatru: Ambasada Iubirii la Teatrul Dramaturgilor Romani
DESCRIPTION:AMBASADA IUBIRII \nAmbasada iubirii e o satiră nemiloasă\, ca o gheară în mânușă de catifea. „Teroriștii” ipotetici vor să fure și ei secretul „iubirii netulburate”\, dar nu o pot face oricât ar încerca\, pentru simplul fapt că unii s-au născut… ambasadori. O comedie despre destinul care nu poate fi schimbat. \nDETALII\nVineri\, 01.02.\, ora 19.00\nJoi\, 28.02.\, ora 19.00 \nTDR\, sala Iosif Naghiu \n1h 30 (fără pauză) \nDISTRIBUȚIA\nMaia Morgenstern\nTomi Cristin/Dan Condurache\nDana Rogoz\nAnca Sigartău\nVlad Logigan\nSilviu Mircescu\nDorin C. Zachei\nRodica Ionescu-Cuciumeanu\nMihai Cuciumeanu\nRăzvan Canache / Paul Pristavu\nBogdan Acatrinei \nTEXT DE:\nIOSIF NAGHIU \nREGIA:\nMARIUS BODOCHI \nIlustrația muzicală:\nManuela Cara\nScenografia:\nIuliana Gherghescu \nVideo-design:\nIoana Bodale \nAsistent regie:\nRodica Ionescu-Cuciumeanu
URL:https://partipipal.ro/event/hai-la-teatru-ambasada-iubirii-la-teatrul-dramaturgilor-romani/
LOCATION:Teatrul Dramaturgilor Romani\, Calea Griviței nr. 64-66\, sector 1\, Bucuresti\, Romania
CATEGORIES:Parteneriate Media,Teatru
ATTACH;FMTTYPE=image/jpeg:https://partipipal.ro/wp-content/uploads/2019/01/Feat-Event-PPPL-Ambasada-Iubirii.jpg
END:VEVENT
BEGIN:VEVENT
DTSTART;VALUE=DATE:20180928
DTEND;VALUE=DATE:20181008
DTSTAMP:20260425T002436
CREATED:20180926T190645Z
LAST-MODIFIED:20180926T190645Z
UID:31360-1538092800-1538956799@partipipal.ro
SUMMARY:TEEN-FEST! Zece zile de teatru si arta participativa pentru adolescenti
DESCRIPTION:În perioada 28 septembrie-7 octombrie 2018\, adolescenții sunt așteptați la Excelsior TEEN-FEST\, festivalul de teatru profesionist care le este dedicat. Sub genericul Viitorului imaginaT\, cea de-a IV-a ediție a TEEN-FEST propune nouă secțiuni ce cuprind 18 spectacole de teatru profesionist din țară și din străinătate și numeroase evenimente conexe\, concentrate în zece zile intense de creativitate\, empatie și liberă exprimare artistică. \nPrincipalele secțiuni ale festivalului\, Reborn Classics și Teen Attitude\, reunesc spectacole de teatru care definesc universul adolescenților și îl așază față în față cu metamorfozele lumii contemporane\, prin teme relevante pentru publicul tânăr.  \nSecțiunea REBORN CLASSICS propune perspective surprinzătoare asupra unor texte cunoscute sau mai puțin cunoscute din dramaturgia universală: Pescărușul lui Cehov își ia zborul spre orizonturi neașteptate\, în versiunea regizorală semnată de Andrei Șerban la unteatru; Jurnalul lui Robinson Crusoe\, spectacolul-concert realizat de Mihai Măniuțiu la Teatrul Odeon\, transpune povestea celebrului aventurier într-o adaptare muzicală bazată pe songuri de Ada Milea\, care va cuceri publicul de toate vârstele; actorul și Radu Iacoban a remixat figura faimosului personaj shakespearian Richard al II-lea într-un spectacol de teatru intens despre transformările halucinante ale lumii de azi\, pe scena Teatrului Mic; iar Vlad Cristache a transformat piesa SF a lui Karel Čapek R.U.R. într-un spectacol-colaj care are toate ingredientele viitorului imaginat.  \nÎn secțiunea TEEN ATTITUDE\, șase dintre cei mai prolifici regizorii ai noii generații radiografiază prin spectacolele lor adolescența ca fel de a fi\, ca etapă marcată de întrebări profunde\, stări contradictorii\, descoperiri uimitoare. Tinerii aflați la această vârstă vor descoperi pe scenă personaje care le seamănă și povești în care se vor regăsi cu siguranță. Eugen Gyemant propune o incursiune în universul secret al adolescenței\, într-o lectură proaspătă a piesei de succes Avioane de hârtie (Teatrul Național „Radu Stanca”\, Sibiu); despre nevoia adolescentină de autoafirmare și tentația de a evada uneori în lumi imaginare vorbește spectacolul Mamă\, mi-am pierdut mâna! regizat de Alexandru Mâzgăreanu la Teatrul Tineretului Piatra Neamț; în Wanda (Teatrul pentru Copii și Tineret GONG)\, regizorul Radu Apostol surprinde cu sensibilitate perioada delicată a preadolescenței și nevoia de a recupera sentimentul de „acasă”; binecunoscuta piesă Dragă doamnă profesoară transformă miza promovării bacalaureatului într-o întâmplare cu efecte devastatoare\, în versiunea scenică îndrăzneață semnată de Andrei Măjeri la Teatrul Municipal Baia Mare; boyz and girlz (Centrul de Teatru Educațional Replika în parteneriat cu Béznă Theatre) investighează problematica cyberbulling-ului și a identității de gen într-o formulă teatrală inedită\, creată de Sînziana Koenig; sub semnătura regizorului Erwin Șimșensohn\, Aniversarea (Teatrul „Mihai Eminescu”\, Botoșani)\, este spectacolul care surprinde psihologia adolescentină din perspectiva relației cu părinții. \nTEEN-FEST mai include și secțiuni speciale ce aduc în atenția publicului creații ale adolescenților (Maratonul Adolescenței Teens in the Spotlight)\, explorează oportunități și alternative de comunicare cu tânăra generație (#teatruînlicee\, #încotro) și transformă arta teatrală într-o platformă autentică de dialog și de incluziune socială (#împreună).  \nDespre evenimentele conexe și noutățile acestei ediții veți afla din comunicatele transmise ulterior. \nProgramul Festivalului este disponibil pe https://www.teatrul-excelsior.ro/programul-excelsior-teen-fest-2018/. \nBiletele pot fi achiziționate de pe site-ul https://www.bilet.ro/ și de la casa de bilete a Teatrului Excelsior (str. Academiei nr. 28).  \nVeștile despre TEEN-FEST circulă repede pe website-ul Teatrului EXCELSIOR\, https://www.teatrul-excelsior.ro/teen-fest/ și pe pagina de Facebook: https://www.facebook.com/Teatrul-Excelsior-Bucuresti. \n \n 
URL:https://partipipal.ro/event/teen-fest-zece-zile-de-teatru-si-arta-participativa-pentru-adolescenti/
CATEGORIES:Parteneriate Media,Teatru
ATTACH;FMTTYPE=image/jpeg:https://partipipal.ro/wp-content/uploads/2018/09/Feat-Event-PPPL-Teen-Fest.jpg
END:VEVENT
END:VCALENDAR